BEGIN:VCALENDAR
VERSION:2.0
PRODID:-//ChamberMaster//Event Calendar 2.0//EN
METHOD:PUBLISH
X-PUBLISHED-TTL:P3D
REFRESH-INTERVAL:P3D
CALSCALE:GREGORIAN
BEGIN:VEVENT
DTSTART:20250502T183000Z
DTEND:20250502T220000Z
X-MICROSOFT-CDO-ALLDAYEVENT:FALSE
SUMMARY:SPRING BUNCO\, LUNCHEON AND AUCTION by the Sequim Guild of Seattle Children's
DESCRIPTION:SPRING BUNCO is HERE! Sequim Guild of Seattle Children's hospital is excited to invite you to our Spring BUNCO party. Win great prizes playing Bunco\, enjoy a scrumptious lunch made by Guild members (cookbooks available too!)\, and bid on unique items at the silent auction. Please join us Friday\, May 2\, at St. Luke's Episcopal Church\, 525 N. 5th Ave.\, Sequim. Only $15.00 at the door\, doors open at 11:30. All proceeds go to Seattle Children's Hospital for research and uncompensated care\, providing nearly $3 million in services to 1\,277 Clallam and Jefferson County children last year. For more information\, contact Raini Cacy 360-461-1818 or sequimguild@gmail.com
X-ALT-DESC;FMTTYPE=text/html:SPRING BUNCO is HERE! Sequim Guild of Seattle Children&rsquo\;s hospital is excited to invite you to our Spring BUNCO party. Win great prizes playing Bunco\, enjoy a scrumptious lunch made by Guild members (cookbooks available too!)\, and bid on unique items at the silent auction. Please join us Friday\, May 2\, at St. Luke&#39\;s Episcopal Church\, 525 N. 5th Ave.\, Sequim. Only $15.00 at the door\, doors open at 11:30. All proceeds go to Seattle Children&rsquo\;s Hospital for research and uncompensated care\, providing nearly $3 million in services to 1\,277 Clallam and Jefferson County children last year. For more information\, contact Raini Cacy 360-461-1818 or sequimguild@gmail.com
LOCATION:St Luke's Episcopal Church 525 N. 5th Ave. Sequim
UID:e.2672.23389
SEQUENCE:3
DTSTAMP:20260419T164843Z
URL:https://business.sequimchamber.com/events/details/spring-bunco-luncheon-and-auction-by-the-sequim-guild-of-seattle-children-s-23389
END:VEVENT

END:VCALENDAR
