BEGIN:VCALENDAR
VERSION:2.0
PRODID:-//ChamberMaster//Event Calendar 2.0//EN
METHOD:PUBLISH
X-PUBLISHED-TTL:P3D
REFRESH-INTERVAL:P3D
CALSCALE:GREGORIAN
BEGIN:VEVENT
DTSTART:20220817T160000Z
DTEND:20220817T230000Z
X-MICROSOFT-CDO-ALLDAYEVENT:FALSE
SUMMARY:Summer Art Camps
DESCRIPTION:Summer Art Camps\n\nWeek 1: August 15-19\, 2022\n\nWeek 2: August 22-26\, 2022\n\nAges 7-12\n\nCost Per Session: $100 for members |  $120 for non-members\n\nJoin us for 2 weeks of art\, nature\, exploration and outdoor fun with daily half day sessions for ages 7-12. You can sign up for all four camps over the two weeks\, or pick and choose one or two that work best for you! This year's camp sessions are: Nature Art\, Printmaking\, Creative Engineering\, and Wearable Art.
X-ALT-DESC;FMTTYPE=text/html:<p><strong><span style="font-size:16px">Summer Art Camps</span></strong><br />\n<strong>Week 1: August 15-19\, 2022</strong><br />\n<strong>Week 2: August 22-26\, 2022</strong><br />\n<strong>Ages 7-12</strong><br />\n<strong>Cost Per Session: </strong><span style="color:rgb(69\, 69\, 69)\; font-family:arial\; font-size:11.5pt">$100 for members |&nbsp\; $120 for non-members</span></p>\n\n<p><span style="color:rgb(42\, 42\, 42)\; font-family:arial\; font-size:11.5pt">Join us for 2 weeks of art\, nature\, exploration and outdoor fun with daily half day sessions for ages 7-12. You can sign up for all four camps over the two weeks\, or pick and choose one or two that work best for you! This year&rsquo\;s camp sessions are: Nature Art\, Printmaking\, Creative Engineering\, and Wearable Art.</span></p>\n
LOCATION:Port Angeles Fine Arts Center 1203 E. Lauridsen Blvd. Port Angeles\, WA 98362
UID:e.2672.19422
SEQUENCE:3
DTSTAMP:20260421T142157Z
URL:https://business.sequimchamber.com/events/details/summer-art-camps-08-17-2022-19422
END:VEVENT

END:VCALENDAR
