BEGIN:VCALENDAR
VERSION:2.0
PRODID:-//ChamberMaster//Event Calendar 2.0//EN
METHOD:PUBLISH
X-PUBLISHED-TTL:P3D
REFRESH-INTERVAL:P3D
CALSCALE:GREGORIAN
BEGIN:VEVENT
DTSTART:20210619T200000Z
DTEND:20210620T000000Z
X-MICROSOFT-CDO-ALLDAYEVENT:FALSE
SUMMARY:Summertide Solstice Art Festival
DESCRIPTION:SummerTide Solstice Art Festival is a free\, family friendly event to celebrate the longest day of the year and welcome new sculpture artwork to Webster's Woods Sculpture Park. \n\nThis event marks the opening of a new open-air art exhibition\, The Endurance of Change\, featuring 13 new and re-envisioned artworks in Webster's Woods Sculpture Park. Visitors will have the opportunity to meet the artists\, participate in guided tours of the newly-installed artworks\, or explore the collection with a new park map.\n\nThis year's lineup also features a selection of seven original poems from the Olympic Peninsula Authors group. Visitors will be able to meet the authors and enjoy live readings at a Poetry Caf  in the gallery courtyard\, or enjoy a self-guided poetry walk through the park.\n\nVisitors of all ages will be invited to contribute to a community nature weaving\, design a playful solstice crown\, and harness the magic of the sun to create prints with natural objects.\n\nFinally\, attendees can enjoy live music from the meadow stage throughout the event. Abakis\, aka Aba Kiser\, will be playing rootsy orchestral folk pop from 1:00pm-2:00pm and classically trained vocalist and self-taught guitarist Kristen Marlo will serenade the crowd from 2:00pm-4:00pm. Songslinger Jack Dwyer will strum from 4:00pm-5:00pm.\n\nFREE/BY DONATION | FAMILY FRIENDLY\n\nhttps://www.pafac.org/summertide2021festival.html
X-ALT-DESC;FMTTYPE=text/html:<div>SummerTide Solstice Art Festival is a free\, family friendly event to celebrate the longest day of the year and welcome new sculpture artwork to Webster&#39\;s Woods Sculpture Park.&nbsp\;</div>\n\n<div>This event marks the opening of a new open-air art exhibition\, The Endurance of Change\, featuring 13 new and re-envisioned artworks in Webster&#39\;s Woods Sculpture Park. Visitors will have the opportunity to meet the artists\, participate in guided tours of the newly-installed artworks\, or explore the collection with a new park map.</div>\n\n<div>This year&rsquo\;s lineup also features a selection of seven original poems from the Olympic Peninsula Authors group. Visitors will be able to meet the authors and enjoy live readings at a Poetry Caf&eacute\; in the gallery courtyard\, or enjoy a self-guided poetry walk through the park.</div>\n\n<div>Visitors of all ages will be invited to contribute to a community nature weaving\, design a playful solstice crown\, and harness the magic of the sun to create prints with natural objects.</div>\n\n<div>Finally\, attendees can enjoy live music from the meadow stage throughout the event. Abakis\, aka Aba Kiser\, will be playing rootsy orchestral folk pop from 1:00pm-2:00pm and classically trained vocalist and self-taught guitarist Kristen Marlo will serenade the crowd from 2:00pm-4:00pm. Songslinger Jack Dwyer will strum from 4:00pm-5:00pm.</div>\n\n<div>FREE/BY DONATION | FAMILY FRIENDLY<br />\n<a class="oajrlxb2 g5ia77u1 qu0x051f esr5mh6w e9989ue4 r7d6kgcz rq0escxv nhd2j8a9 nc684nl6 p7hjln8o kvgmc6g5 cxmmr5t8 oygrvhab hcukyx3x jb3vyjys rz4wbd8a qt6c0cv9 a8nywdso i1ao9s8h esuyzwwr f1sip0of lzcic4wl py34i1dx gpro0wi8" href="https://www.pafac.org/summertide2021festival.html?fbclid=IwAR1dE-Ug2lgngXXlKPCGZa4cBm_BJKKUo0L3j2UmCaiBYY7k1yCrPL8fG2s" rel="nofollow noopener" style="color: var(--blue-link)\; cursor: pointer\; text-decoration: none\; outline: none\; list-style: none\; border: 0px\; padding: 0px\; margin: 0px\; background-color: transparent\; text-align: inherit\; display: inline\; box-sizing: border-box\; font-family: inherit\;" tabindex="0" target="_blank">https://www.pafac.org/summertide2021festival.html</a></div>\n
LOCATION:Port Angeles Fine Arts Center\, Webster's Woods 1203 E. Lauridsen Blvd. | Port Angeles\, WA 98362
UID:e.2672.17792
SEQUENCE:3
DTSTAMP:20260422T065138Z
URL:https://business.sequimchamber.com/events/details/summertide-solstice-art-festival-06-19-2021-17792
END:VEVENT

END:VCALENDAR
