BEGIN:VCALENDAR
VERSION:2.0
PRODID:-//ChamberMaster//Event Calendar 2.0//EN
METHOD:PUBLISH
X-PUBLISHED-TTL:P3D
REFRESH-INTERVAL:P3D
CALSCALE:GREGORIAN
BEGIN:VEVENT
DTSTART:20170516T190000Z
DTEND:20170516T200000Z
X-MICROSOFT-CDO-ALLDAYEVENT:FALSE
SUMMARY:Tea with SHE: Get Your Affairs in Order
DESCRIPTION:Teresa Neudorfer\, Elder Law Attorney will present on getting your affairs in order: Estate planning isn't just about legal issues -- there are practical ones as well. Help your family -- by getting your paperwork in order
X-ALT-DESC;FMTTYPE=text/html:Teresa Neudorfer\, Elder Law Attorney will present on getting your affairs in order: Estate planning isn&#39\;t just about legal issues -- there are practical ones as well. Help your family -- by getting your paperwork in order
LOCATION:TRINITY UNITED METHODIST CHURCH 100 SOUTH BLAKE AVE\, SEQUIM
UID:e.2672.3730
SEQUENCE:3
DTSTAMP:20260422T122435Z
URL:https://business.sequimchamber.com/events/details/tea-with-she-get-your-affairs-in-order-3730
END:VEVENT

END:VCALENDAR
