BEGIN:VCALENDAR
VERSION:2.0
PRODID:-//ChamberMaster//Event Calendar 2.0//EN
METHOD:PUBLISH
X-PUBLISHED-TTL:P3D
REFRESH-INTERVAL:P3D
CALSCALE:GREGORIAN
BEGIN:VEVENT
DTSTART:20170518T010000Z
DTEND:20170518T030000Z
X-MICROSOFT-CDO-ALLDAYEVENT:FALSE
SUMMARY:Tide Pool Explorations Class
DESCRIPTION:Looking to get acquainted with the fascinating diversity of marine creatures found on the North Olympic Peninsula? Join Feiro for Tide Pool Explorations.\nOur instructor\, Alex Hirsekorn\, is a Port Angeles native who literally grew up on City Pier and Hollywood Beach. A lifetime saltwater enthusiast\, he has been studying marine life for nearly 60 years. Over twenty years of advising aquarists and fifteen years as a naturalist at the Feiro Center Alex has developed the ability to describe complex ecological concepts in easy to understand language.\n\nClasses will last two hours per session and are configured to combine lecture\, anecdote\, and conversation among participants. The goal of the class is to provide participants with a better understanding of our area's marine environment as well as with the tools to pursue even deeper knowledge.This class is best suited to adult learners.
X-ALT-DESC;FMTTYPE=text/html:<span style="color:rgba(0\, 0\, 0\, 0.870588)\; font-family:roboto\,robotodraft\,helvetica\,arial\,sans-serif">Looking to get acquainted with the fascinating diversity of marine creatures found on the North Olympic Peninsula? Join Feiro for Tide Pool Explorations.</span>\n<p>Our instructor\, Alex Hirsekorn\, is a Port Angeles native who literally grew up on City Pier and Hollywood Beach. A lifetime saltwater enthusiast\, he has been studying marine life for nearly 60 years. Over twenty years of advising aquarists and fifteen years as a naturalist at the Feiro Center Alex has developed the ability to describe complex ecological concepts in easy to understand language.</p>\n\n<p>Classes will last two hours per session and are configured to combine lecture\, anecdote\, and conversation among participants. The goal of the class is to provide participants with a better understanding of our area&#39\;s marine environment as well as with the tools to pursue even deeper knowledge.This class is best suited to adult learners.</p>\n\n<p>&nbsp\;</p>\n\n<p>&nbsp\;</p>\n
LOCATION:Class takes place at Feiro Marine Life Center 315 N Lincoln St Port Angeles\, WA 98362 Contact us at (360) 417-6254 or info@feiromarinelifecenter.org
UID:e.2672.3866
SEQUENCE:3
DTSTAMP:20260422T121746Z
URL:https://business.sequimchamber.com/events/details/tide-pool-explorations-class-05-17-2017-3866
END:VEVENT

END:VCALENDAR
