BEGIN:VCALENDAR
VERSION:2.0
PRODID:-//ChamberMaster//Event Calendar 2.0//EN
METHOD:PUBLISH
X-PUBLISHED-TTL:P3D
REFRESH-INTERVAL:P3D
CALSCALE:GREGORIAN
BEGIN:VEVENT
DTSTART:20180209T033000Z
DTEND:20180225T220000Z
X-MICROSOFT-CDO-ALLDAYEVENT:FALSE
SUMMARY:Time Stands Still
DESCRIPTION:The lives of two journalists who spend years in a war zone in Iraq return bruised and emotionally beaten\, to a world of change. The play veers between comedy & drama with many twists and turns. Time zips by in scenes of confrontations and secrets revealed that look at roads people take in search of happiness and fulfillment. TONY AWAR NOMINEE
X-ALT-DESC;FMTTYPE=text/html:The lives of two journalists who spend years in a war zone in Iraq return bruised and emotionally beaten\, to a world of change. The play veers between comedy &amp\; drama with many twists and turns. Time zips by in scenes of confrontations and secrets revealed that look at roads people take in search of happiness and fulfillment. TONY AWAR NOMINEE
LOCATION:Olympic Theatre Arts 414 N Sequim Ave Sequim\, WA 98382
UID:e.2672.8684
SEQUENCE:3
DTSTAMP:20260424T094445Z
URL:https://business.sequimchamber.com/events/details/time-stands-still-8684
END:VEVENT

END:VCALENDAR
