BEGIN:VCALENDAR
VERSION:2.0
PRODID:-//ChamberMaster//Event Calendar 2.0//EN
METHOD:PUBLISH
X-PUBLISHED-TTL:P3D
REFRESH-INTERVAL:P3D
CALSCALE:GREGORIAN
BEGIN:VEVENT
DTSTART:20250504T000000Z
DTEND:20250504T010000Z
X-MICROSOFT-CDO-ALLDAYEVENT:FALSE
SUMMARY:Trashion Show - Sequim Irrigation Festival
DESCRIPTION:The Sequim Irrigation Festival Trashion show was successfully launched in 2024. Local artists created and displayed their "trashion" outfits - made of at least 75% recycled materials - to the delight of festival attendees. The 2025 Trashion Show\, to be held indoors at the Guy Cole Center at Carrie Blake Park\, promises to feature even more amazing creations.
X-ALT-DESC;FMTTYPE=text/html:The Sequim Irrigation Festival Trashion show was successfully launched in 2024. Local artists created and displayed their &quot\;trashion&quot\; outfits - made of at least 75% recycled materials - to the delight of festival attendees. The 2025 Trashion Show\, to be held indoors at the Guy Cole Center at Carrie Blake Park\, promises to feature even more amazing creations.
LOCATION:Guy Cole Center\, Carrie Blake Park
UID:e.2672.22971
SEQUENCE:3
DTSTAMP:20260419T150423Z
URL:https://business.sequimchamber.com/events/details/trashion-show-sequim-irrigation-festival-22971
END:VEVENT

END:VCALENDAR
