BEGIN:VCALENDAR
VERSION:2.0
PRODID:-//ChamberMaster//Event Calendar 2.0//EN
METHOD:PUBLISH
X-PUBLISHED-TTL:P3D
REFRESH-INTERVAL:P3D
CALSCALE:GREGORIAN
BEGIN:VEVENT
DTSTART:20170916T010000Z
DTEND:20170916T040000Z
X-MICROSOFT-CDO-ALLDAYEVENT:FALSE
SUMMARY:United Way Fun Day
DESCRIPTION:United Way of Clallam County will be hosting several events during our annual campaign. Please join us for some fun while we raise money for our community! Our first event will be at Barhop Brewing & Artisan Pizza to kickoff our 2017 campaign and to thank our Day of Caring volunteers. Part of the proceeds from the night will be donated to United Way.
X-ALT-DESC;FMTTYPE=text/html:United Way of Clallam County will be hosting several events during our annual campaign. Please join us for some fun while we raise money for our community! Our first event will be at Barhop Brewing &amp\; Artisan Pizza to kickoff our 2017 campaign and to thank our Day of Caring volunteers. Part of the proceeds from the night will be donated to United Way.
LOCATION:Barhop Brewing & Artisan Pizza 124 W Railroad Ave\, Port Angeles\, WA 98362
UID:e.2672.5206
SEQUENCE:3
DTSTAMP:20260422T140148Z
URL:https://business.sequimchamber.com/events/details/united-way-fun-day-5206
END:VEVENT

END:VCALENDAR
