BEGIN:VCALENDAR
VERSION:2.0
PRODID:-//ChamberMaster//Event Calendar 2.0//EN
METHOD:PUBLISH
X-PUBLISHED-TTL:P3D
REFRESH-INTERVAL:P3D
CALSCALE:GREGORIAN
BEGIN:VEVENT
DTSTART:20180221T020000Z
DTEND:20180221T040000Z
X-MICROSOFT-CDO-ALLDAYEVENT:FALSE
SUMMARY:United Way Fundraiser - Bingo Night
DESCRIPTION:Please join us for a fun night of Bingo. A portion of all sales will benefit the United Way.
X-ALT-DESC;FMTTYPE=text/html:Please join us for a fun night of Bingo. A portion of all sales will benefit the United Way.
LOCATION:Peninsula Taproom
UID:e.2672.9099
SEQUENCE:3
DTSTAMP:20260424T100314Z
URL:https://business.sequimchamber.com/events/details/united-way-fundraiser-bingo-night-9099
END:VEVENT

END:VCALENDAR
