BEGIN:VCALENDAR
VERSION:2.0
PRODID:-//ChamberMaster//Event Calendar 2.0//EN
METHOD:PUBLISH
X-PUBLISHED-TTL:P3D
REFRESH-INTERVAL:P3D
CALSCALE:GREGORIAN
BEGIN:VEVENT
DTSTART:20190502T160000Z
DTEND:20190502T220000Z
X-MICROSOFT-CDO-ALLDAYEVENT:FALSE
SUMMARY:Voices for Veterans Stand Down
DESCRIPTION:Voices for Veterans is a nonprofit 501(c)3 organization in the state of Washington. The prime mission is to assist homeless veterans\, veterans in need\, and their immediate family members\, in part through a Stand Down. All of the organizational funding comes from grants and monetary and in-kind donations. There are no paid personnel - only dedicated volunteers. All contributions go directly to the veterans. Stand Downs are held three times annually: In May\, Forks\, Washington\, in July\, Port Townsend\, and October in Port Angeles. Hot meals are provided: Breakfast and Lunch Connecting veterans with medical/dental screening\, screening info for colon and breast cancer\, housing information\, employment and education\, veteran benefits\, counseling\, legal aid\, haircuts\, pet supplies\, new clothing and more. Improving the damaged lives of our dedicated service members. Free TRANSPORTATION on Clallam and Jefferson Transit buses. For information: website: voicesforveterans.org or call Jeff at 360-797-1791.
X-ALT-DESC;FMTTYPE=text/html:Voices for Veterans is a nonprofit 501(c)3 organization in the state of Washington. The&nbsp\;prime&nbsp\;mission is to assist homeless veterans\, veterans in need\, and their immediate family members\, in part through a&nbsp\;Stand Down. All of the organizational funding comes from grants and monetary and in-kind donations. There are no paid personnel - only dedicated volunteers. All contributions go directly to the veterans. Stand Downs are held three times annually: In May\, Forks\, Washington\, in July\, Port Townsend\, and October in Port Angeles. Hot meals are provided: Breakfast and Lunch Connecting veterans with medical/dental screening\, screening info for colon and breast cancer\, housing information\, employment and education\, veteran benefits\, counseling\, legal aid\, haircuts\, pet supplies\, new clothing and more. Improving the damaged lives of our dedicated service members. Free TRANSPORTATION on Clallam and Jefferson Transit buses. For information: website: voicesforveterans.org or call Jeff at 360-797-1791.
LOCATION:Forks Elks Lodge 941 Merchants Road Forks\, Washington 98331
UID:e.2672.13159
SEQUENCE:3
DTSTAMP:20260422T061628Z
URL:https://business.sequimchamber.com/events/details/voices-for-veterans-stand-down-05-02-2019-13159
END:VEVENT

END:VCALENDAR
