BEGIN:VCALENDAR
VERSION:2.0
PRODID:-//ChamberMaster//Event Calendar 2.0//EN
METHOD:PUBLISH
X-PUBLISHED-TTL:P3D
REFRESH-INTERVAL:P3D
CALSCALE:GREGORIAN
BEGIN:VEVENT
DTSTART:20191003T160000Z
DTEND:20191003T220000Z
X-MICROSOFT-CDO-ALLDAYEVENT:FALSE
SUMMARY:Voices for Veterans Stand Down
DESCRIPTION:Stand Down A one-day event offered three times a year in May\, July and October\, and is designed to provide over 25 benefit organizations all located in one place. Hot meals provided: Breakfast and Lunch Connecting veterans with medical/dental screening\, screening info for colon and breast cancer\, housing information\, employment and education\, veteran benefits\, counseling\, legal aid\, haircuts\, food\, pet supplies\, new clothing and more. Not a government agency. All funding is received through donations and grants. All money is used directly for veterans and Stand Down events. No salaries are paid. It is a special day for homeless veterans and all veterans in need especially those with immediate dependent families.
X-ALT-DESC;FMTTYPE=text/html:Stand Down A one-day event offered three times a year in May\, July and October\, and is designed to provide over 25 benefit organizations all located in one place. Hot meals provided: Breakfast and Lunch Connecting veterans with medical/dental screening\, screening info for colon and breast cancer\, housing information\, employment and education\, veteran benefits\, counseling\, legal aid\, haircuts\, food\, pet supplies\, new clothing and more. Not a government agency. All funding is received through donations and grants. All money is used directly for veterans and Stand Down events. No salaries are paid. It is a special day for homeless veterans and all veterans in need especially those with immediate dependent families.
LOCATION:Clallam County Fairgrounds 1608 W. 16th Street Port Angeles\, Washington 98363
UID:e.2672.13529
SEQUENCE:3
DTSTAMP:20260422T111428Z
URL:https://business.sequimchamber.com/events/details/voices-for-veterans-stand-down-10-03-2019-13529
END:VEVENT

END:VCALENDAR
