BEGIN:VCALENDAR
VERSION:2.0
PRODID:-//ChamberMaster//Event Calendar 2.0//EN
METHOD:PUBLISH
X-PUBLISHED-TTL:P3D
REFRESH-INTERVAL:P3D
CALSCALE:GREGORIAN
BEGIN:VEVENT
DTSTART:20170513T190000Z
DTEND:20170514T030000Z
X-MICROSOFT-CDO-ALLDAYEVENT:FALSE
SUMMARY:VoxxLife Presentaions
DESCRIPTION:We are pleased to have the privilege of presenting and demonstration the latest in Neuro Macro pathways stimulation for a better quality of life. A non invasive and very effective way to help with a wide range of health concerns. With the development of this new technology known as Human Performance Technology (HPT) VoxxStasis Socks and Insoles were designed after a 46 yr study on Macro Neuro Pathway stimulation. Come to our free presentation and see how you can increase your Balance\, Flexibility\, Mobility\, and Strength\, instantly. Just by using our HPT Socks and Insoles. It truly is incredible. Come and listen to testimonials of the many people that are having tremendous health benefits with these Socks.
X-ALT-DESC;FMTTYPE=text/html:We are pleased to have the privilege of presenting and demonstration the latest in Neuro Macro pathways stimulation for a better quality of life. A non invasive and very effective way to help with a wide range of health concerns. With the development of this new technology known as Human Performance Technology (HPT) VoxxStasis Socks and Insoles were designed after a 46 yr study on Macro Neuro Pathway stimulation. Come to our free presentation and see how you can increase your Balance\, Flexibility\, Mobility\, and Strength\, instantly. Just by using our HPT Socks and Insoles. It truly is incredible. Come and listen to testimonials of the many people that are having tremendous health benefits with these Socks.
LOCATION:Holiday Inn Express 1441 East Washington St.
UID:e.2672.4947
SEQUENCE:3
DTSTAMP:20260422T122041Z
URL:https://business.sequimchamber.com/events/details/voxxlife-presentaions-4947
END:VEVENT

END:VCALENDAR
