BEGIN:VCALENDAR
VERSION:2.0
PRODID:-//ChamberMaster//Event Calendar 2.0//EN
METHOD:PUBLISH
X-PUBLISHED-TTL:P3D
REFRESH-INTERVAL:P3D
CALSCALE:GREGORIAN
BEGIN:VEVENT
DTSTART:20191006T000000Z
DTEND:20191006T040000Z
X-MICROSOFT-CDO-ALLDAYEVENT:FALSE
SUMMARY:WAG DogtoberFest
DESCRIPTION:Gather you friends and join us for a night that will surely go to the dogs! The 2nd Annual DogtoberFest\, benefiting WAG (Welfare for Animals Guild)\, will be on Saturday\, Oct. 5 from 5:00-9:00pm at Guy Cole Center in Carrie Blake Park\, Sequim. The evening starts with cocktails and silent auction followed by a delicious dinner by Tedesco's Italian Fresh and live auction. $49.95 per person\, or consider buying a table for $445\, seats up to 8. Reserve your seats at wagsequimwa.com. (Not available at the door and must be purchased by Sept. 25.) Please support our no-kill dog rescue facility\, which is funded solely by donations.
X-ALT-DESC;FMTTYPE=text/html:Gather you friends and join us for a night that will surely go to the dogs! The 2nd Annual DogtoberFest\, benefiting WAG (Welfare for Animals Guild)\, will be on Saturday\, Oct. 5 from 5:00-9:00pm at Guy Cole Center in Carrie Blake Park\, Sequim. The evening starts with cocktails and silent auction followed by a delicious dinner by Tedesco&rsquo\;s Italian Fresh and live auction. $49.95 per person\, or consider buying a table for $445\, seats up to 8. Reserve your seats at wagsequimwa.com. (Not available at the door and must be purchased by Sept. 25.) Please support our no-kill dog rescue facility\, which is funded solely by donations.
LOCATION:Guy Cole Center in Carrie Blake Park\, Sequim
UID:e.2672.13453
SEQUENCE:3
DTSTAMP:20260422T104020Z
URL:https://business.sequimchamber.com/events/details/wag-dogtoberfest-13453
END:VEVENT

END:VCALENDAR
