BEGIN:VCALENDAR
VERSION:2.0
PRODID:-//ChamberMaster//Event Calendar 2.0//EN
METHOD:PUBLISH
X-PUBLISHED-TTL:P3D
REFRESH-INTERVAL:P3D
CALSCALE:GREGORIAN
BEGIN:VEVENT
DTSTART:20170923T163000Z
DTEND:20170923T210000Z
X-MICROSOFT-CDO-ALLDAYEVENT:FALSE
SUMMARY:Walk for the Poor
DESCRIPTION:The Walk for the Poor is an event to raise funds to provide emergency assistance to the less fortunate of Sequim (the Sequim School District). Sponsor is the Saint Vincent DePaul Society\, St Joseph Conference\, Sequim.
X-ALT-DESC;FMTTYPE=text/html:The Walk for the Poor is an event to raise funds to provide emergency assistance to the less fortunate of Sequim (the Sequim School District). Sponsor is the Saint Vincent DePaul Society\, St Joseph Conference\, Sequim.
LOCATION:Carrie Blake Park/Olympic Discovery Trail
UID:e.2672.3258
SEQUENCE:3
DTSTAMP:20260422T135952Z
URL:https://business.sequimchamber.com/events/details/walk-for-the-poor-3258
END:VEVENT

END:VCALENDAR
