BEGIN:VCALENDAR
VERSION:2.0
PRODID:-//ChamberMaster//Event Calendar 2.0//EN
METHOD:PUBLISH
X-PUBLISHED-TTL:P3D
REFRESH-INTERVAL:P3D
CALSCALE:GREGORIAN
BEGIN:VEVENT
DTSTART:20210918T170000Z
DTEND:20210918T230000Z
X-MICROSOFT-CDO-ALLDAYEVENT:FALSE
SUMMARY:Walk to End Alzheimer's
DESCRIPTION:Walk to END Alzheimer's Association is calling all friends & neighbors!\n\n\n\nPlease join us on September 18th\, 2021\n\n\n\n- Did you know 1 in 3 seniors dies with Alzheimer's or another dementia\n\n- Between the years 2000 & 2019 deaths from Alzheimer's increased by 145%\n\n- Alzheimer's kills more than breast cancer & prostate cancer combined \n\n- In 2021 it will cost the nation $355 BILLION\n\n- More than 6 million Americans are living with Alzheimer's \n\n\n\nRegistration is at 10am\n\nCeremony is at 11am\n\nThe Walk is at 11:30am\n\n\n\nRegister at: alzwa.org/walk\n\n- click on Port Townsend \n\n- create a team or join a team\n\n\n\nFor info call or email:\n\nWalk Planning Team / 206-529-3861\n\nnortholympicpeninsulawalk@alz.org
X-ALT-DESC;FMTTYPE=text/html:Walk to END Alzheimer&#39\;s Association is calling all friends &amp\; neighbors!<br />\n<br />\nPlease join us on September 18th\, 2021<br />\n<br />\n- Did you know 1 in 3 seniors dies with Alzheimer&#39\;s or another dementia<br />\n- Between the years 2000 &amp\; 2019 deaths from Alzheimer&#39\;s increased by 145%<br />\n- Alzheimer&#39\;s kills more than breast cancer &amp\; prostate cancer combined&nbsp\;<br />\n- In 2021 it will cost the nation $355 BILLION<br />\n- More than 6 million Americans are living with Alzheimer&#39\;s&nbsp\;<br />\n<br />\nRegistration is at 10am<br />\nCeremony is at 11am<br />\nThe Walk is at 11:30am<br />\n<br />\nRegister at: <a href="http://alzwa.org/walk">alzwa.org/walk</a><br />\n- click on Port Townsend&nbsp\;<br />\n- create a team or join a team<br />\n<br />\nFor info call or email:<br />\nWalk Planning Team / 206-529-3861<br />\nnortholympicpeninsulawalk@alz.org<br />\n&nbsp\;
LOCATION:Pope Marine Park Port Townsend (by the water to the end of Water St.)
UID:e.2672.18528
SEQUENCE:3
DTSTAMP:20260421T083006Z
URL:https://business.sequimchamber.com/events/details/walk-to-end-alzheimer-s-18528
END:VEVENT

END:VCALENDAR
