BEGIN:VCALENDAR
VERSION:2.0
PRODID:-//ChamberMaster//Event Calendar 2.0//EN
METHOD:PUBLISH
X-PUBLISHED-TTL:P3D
REFRESH-INTERVAL:P3D
CALSCALE:GREGORIAN
BEGIN:VEVENT
DTSTART:20191001T160000Z
DTEND:20191101T000000Z
X-MICROSOFT-CDO-ALLDAYEVENT:FALSE
SUMMARY:Windermere Coat Drive
DESCRIPTION:Windermere Coat Drive October 1-31\, 2019 Your spare coats can provide vital warmth for someone in need\, this season. Coats will be donated to the The Answer for Youth (TAFY)\, Boys & Girls Club and the Sequim 7th Day Adventist's Free Clothing Closet for those in need. Drop off your new or lightly used coats\, hats or gloves (in any size) at one of our Windermere offices: Windermere Real Estate/Sequim-East 842 E Washington St\, Sequim\, WA 98382 360-683-4844 Office Hours: 9am-5pm Mon-Sat\, 11am-4pm Sun Windermere Real Estate/Sunland 137 Fairway Dr\, Sequim\, WA 98382 360-683-6880 Office Hours: 9am-5pm Mon-Sat Windermere Real Estate/Port Angeles 711 E Front St\, Port Angeles 360-457-0456 Office Hours: 9am-5pm Mon-Sat
X-ALT-DESC;FMTTYPE=text/html:Windermere Coat Drive October 1-31\, 2019 Your spare coats can provide vital warmth for someone in need\, this season. Coats will be donated to the The Answer for Youth (TAFY)\, Boys &amp\; Girls Club and the Sequim 7th Day Adventist&rsquo\;s Free Clothing Closet for those in need. Drop off your new or lightly used coats\, hats or gloves (in any size) at one of our Windermere offices: Windermere Real Estate/Sequim-East 842 E Washington St\, Sequim\, WA 98382 360-683-4844 Office Hours: 9am-5pm Mon-Sat\, 11am-4pm Sun Windermere Real Estate/Sunland 137 Fairway Dr\, Sequim\, WA 98382 360-683-6880 Office Hours: 9am-5pm Mon-Sat Windermere Real Estate/Port Angeles 711 E Front St\, Port Angeles 360-457-0456 Office Hours: 9am-5pm Mon-Sat
LOCATION:Windermere Real Estate/Sequim-East 842 E Washington St\, Sequim\, WA 98382 360-683-4844 Office Hours: 9am-5pm Mon-Sat\, 11am-4pm Sun Windermere Real Estate/Sunland 137 Fairway Dr\, Sequim\, WA 98382 360-683-6880 Office Hours: 9am-5pm Mon-Sat Windermere Real Estate/Port Angeles 711 E Front St\, Port Angeles 360-457-0456 Office Hours: 9am-5pm Mon-Sat
UID:e.2672.13557
SEQUENCE:3
DTSTAMP:20260422T105320Z
URL:https://business.sequimchamber.com/events/details/windermere-coat-drive-10-01-2019-13557
END:VEVENT

END:VCALENDAR
