BEGIN:VCALENDAR
VERSION:2.0
PRODID:-//ChamberMaster//Event Calendar 2.0//EN
METHOD:PUBLISH
X-PUBLISHED-TTL:P3D
REFRESH-INTERVAL:P3D
CALSCALE:GREGORIAN
BEGIN:VEVENT
DTSTART:20180214T223000Z
DTEND:20180214T233000Z
X-MICROSOFT-CDO-ALLDAYEVENT:FALSE
SUMMARY:WOW! Working on Wellness Forum
DESCRIPTION:"Stages of Senior Care: Your Guide to Successful Aging" Brian Jackson\, Sound Senior Care
X-ALT-DESC;FMTTYPE=text/html:&quot\;Stages of Senior Care: Your Guide to Successful Aging&quot\; Brian Jackson\, Sound Senior Care
LOCATION:Trinity United Methodist Church 100 South Blake Street Sequim\, WA
UID:e.2672.8459
SEQUENCE:3
DTSTAMP:20260424T100109Z
URL:https://business.sequimchamber.com/events/details/wow-working-on-wellness-forum-02-14-2018-8459
END:VEVENT

END:VCALENDAR
