BEGIN:VCALENDAR
VERSION:2.0
PRODID:-//ChamberMaster//Event Calendar 2.0//EN
METHOD:PUBLISH
X-PUBLISHED-TTL:P3D
REFRESH-INTERVAL:P3D
CALSCALE:GREGORIAN
BEGIN:VEVENT
DTSTART:20160413T213000Z
DTEND:20160413T223000Z
X-MICROSOFT-CDO-ALLDAYEVENT:FALSE
SUMMARY:WOW! Working On Wellness Forum
DESCRIPTION:"Applied Kinesiology: The Triad of Health”\nPresented by: Dr. Ryan Iskenderian\, Via Vita Chiropractic Owner
X-ALT-DESC;FMTTYPE=text/html:"Applied Kinesiology: The Triad of Health”\nPresented by: Dr. Ryan Iskenderian\, Via Vita Chiropractic Owner
LOCATION:Trinity United Methodist Church @ 100 South Blake Street\, Sequim
UID:e.2672.170
SEQUENCE:3
DTSTAMP:20260421T082959Z
URL:https://business.sequimchamber.com/events/details/wow-working-on-wellness-forum-04-13-2016-170
END:VEVENT

END:VCALENDAR
